BEGIN:VCALENDAR
METHOD:PUBLISH
VERSION:2.0
CALSCALE:GREGORIAN
PRODID:-//NONSGML WPForms//NONSGML Sugar Calendar Feeds v3.11.0//EN
X-WR-CALNAME:Beginner American Mahjong - 3 Lesson Series
X-WR-CALDESC:DecaturMahj.com
X-WR-TIMEZONE:UTC
BEGIN:VTIMEZONE
TZID:UTC
BEGIN:STANDARD
TZOFFSETFROM:+0000
TZOFFSETTO:+0000
DTSTART:20251026T010000
TZNAME:UTC
END:STANDARD
END:VTIMEZONE
BEGIN:VTIMEZONE
TZID:UTC
BEGIN:STANDARD
TZOFFSETFROM:+0000
TZOFFSETTO:+0000
DTSTART:20251026T010000
TZNAME:UTC
END:STANDARD
END:VTIMEZONE
BEGIN:VEVENT
SUMMARY:Beginner American Mahjong - 3 Lesson Series
DESCRIPTION:Join Laura Downs and Whitney Brown for three weeks in April 
 &amp\; May to learn the basics of American Mahjong.\nThese 3 Lessons wil
 l give you the confidence to join any Beginner table to play\, and maybe
  Advanced Beginner.\nRegistration in advance is required. Limited to 16 
 students\, no new students after the first class. To reserve your spot\,
  RSVP here and send your $150 class payment to Whitney Brown using the d
 etails below. You are not considered registered until payment is receiv
 ed.\nLessons will take place on Sundays:\nApril 26\nMay 3\nMay 17\nArriv
 e as early as 11:00am to enjoy brunch at Cafe Lily (not included) in the
  main dining room\, and lessons will run from 1:00 - 3:00pm\, on the dat
 es noted above in their private room.\nPlease note: street parking is FR
 EE in Decatur all day Sunday!\nRSVP here and send your $150 payment for 
 the lessons. Your payment includes a digital copy of the book "Learn Ame
 rican Mahjong" and the 2026 National Mah Jongg League Playing Card. Ques
 tions? Email Whitney at decaturmahjwhitney@gmail.com.\nPayment for the 
 lesson series can be completed via Venmo to @scottie_whitney07 or Zelle/
 CashApp/PayPal/Apple Pay using Whitney’s cell - 678.665.7743 or email 
 address whitney.j.brown07@gmail.com
URL;VALUE=URI:https://decaturmahj.com/events/beginner-american-mahjong-3
 -lesson-seriesapr26/
UID:urn:uuid:47290b3b-5626-43cb-903e-cc70cab11d1b
STATUS:CONFIRMED
ORGANIZER:
DTSTAMP:20260420T113615Z
DTSTART;TZID=UTC:20260426T130000
DTEND;TZID=UTC:20260426T150000
LOCATION:308-B W. Ponce de Leon Ave.
END:VEVENT
END:VCALENDAR