BEGIN:VCALENDAR
METHOD:PUBLISH
VERSION:2.0
CALSCALE:GREGORIAN
PRODID:-//NONSGML WPForms//NONSGML Sugar Calendar Feeds v3.11.0//EN
X-WR-CALNAME:Beginner Hong Kong Mahjong Lessons at Bench Warmers
X-WR-CALDESC:DecaturMahj.com
X-WR-TIMEZONE:UTC
BEGIN:VTIMEZONE
TZID:UTC
BEGIN:STANDARD
TZOFFSETFROM:+0000
TZOFFSETTO:+0000
DTSTART:20251015T063000
TZNAME:UTC
END:STANDARD
END:VTIMEZONE
BEGIN:VTIMEZONE
TZID:UTC
BEGIN:STANDARD
TZOFFSETFROM:+0000
TZOFFSETTO:+0000
DTSTART:20251015T063000
TZNAME:UTC
END:STANDARD
END:VTIMEZONE
BEGIN:VEVENT
SUMMARY:Beginner Hong Kong Mahjong Lessons at Bench Warmers
DESCRIPTION:Interested in learning Hong Kong Mahjong?\nMake some new fri
 ends\, learn a new Game and have Fun!\n​\nCome early and have dinner w
 ith us at our group dinner: 5:30P\n6:30P to 8:00P Hong Kong Lesson\n8:00
 P to 9:00P Guided play and practice with other students\n\nLesson is $25
 . Limited to 12 Students.\n(If you are interested in learning scoring\, 
 please let us know in your RSVP as that is a different table).\nLessons 
 will be taught by our very own – Kim and Elizabeth!\nQuestions? Reach 
 out to Whitney Brown at decaturmahjwhitney@gmail.com.
URL;VALUE=URI:https://decaturmahj.com/events/beginner-hong-kong-mahjong-
 lessons-at-bench-warmers/
UID:urn:uuid:d0ffdf34-677a-4994-a0da-d9cfaec08d23
STATUS:CONFIRMED
ORGANIZER:
DTSTAMP:20260420T102553Z
DTSTART;TZID=UTC:20260415T183000
DTEND;TZID=UTC:20260415T203000
LOCATION:240 W. Ponce de Leon Ave.
END:VEVENT
END:VCALENDAR