BEGIN:VCALENDAR
METHOD:PUBLISH
VERSION:2.0
CALSCALE:GREGORIAN
PRODID:-//NONSGML WPForms//NONSGML Sugar Calendar Feeds v3.11.0//EN
X-WR-CALNAME:Beginner Hong Kong Mahjong Lessons at Green Ginger
X-WR-CALDESC:DecaturMahj.com
X-WR-TIMEZONE:UTC
BEGIN:VTIMEZONE
TZID:UTC
BEGIN:STANDARD
TZOFFSETFROM:+0000
TZOFFSETTO:+0000
DTSTART:20251012T020000
TZNAME:UTC
END:STANDARD
END:VTIMEZONE
BEGIN:VTIMEZONE
TZID:UTC
BEGIN:STANDARD
TZOFFSETFROM:+0000
TZOFFSETTO:+0000
DTSTART:20251012T020000
TZNAME:UTC
END:STANDARD
END:VTIMEZONE
BEGIN:VEVENT
SUMMARY:Beginner Hong Kong Mahjong Lessons at Green Ginger
DESCRIPTION:Interested in learning Hong Kong Mahjong?\nMake some new fri
 ends\, learn a new Game and have Fun!\n​\nJoin us for a late lunch or 
 afternoon cocktail/mocktail at 2pm!\n2:15PM Hong Kong Lesson begins.\nLe
 sson is $25. Limited to 12 Students.\n(If you are interested in learning
  scoring\, please let us know in your RSVP as that is a different table)
 .\nLessons will be taught by our very own - Lydia and Hedy!\nQuestions? 
 Reach out to Whitney Brown at decaturmahjwhitney@gmail.com.
URL;VALUE=URI:https://decaturmahj.com/events/beginner-hong-kong-mahjong-
 lessons-at-green-ginger/
UID:urn:uuid:5057b49f-c0c7-42e7-b2a1-865de3f24e8e
STATUS:CONFIRMED
ORGANIZER:
DTSTAMP:20260420T114055Z
DTSTART;TZID=UTC:20260412T140000
DTEND;TZID=UTC:20260412T160000
LOCATION:265 Ponce de Leon Place
END:VEVENT
END:VCALENDAR