BEGIN:VCALENDAR
METHOD:PUBLISH
VERSION:2.0
CALSCALE:GREGORIAN
PRODID:-//NONSGML WPForms//NONSGML Sugar Calendar Feeds v3.11.0//EN
X-WR-CALNAME:Decatur Mahjong Social Club 1 Year Anniversary Party!
X-WR-CALDESC:DecaturMahj.com
X-WR-TIMEZONE:UTC
BEGIN:VTIMEZONE
TZID:UTC
BEGIN:STANDARD
TZOFFSETFROM:+0000
TZOFFSETTO:+0000
DTSTART:20251010T063000
TZNAME:UTC
END:STANDARD
END:VTIMEZONE
BEGIN:VTIMEZONE
TZID:UTC
BEGIN:STANDARD
TZOFFSETFROM:+0000
TZOFFSETTO:+0000
DTSTART:20251010T063000
TZNAME:UTC
END:STANDARD
END:VTIMEZONE
BEGIN:VEVENT
SUMMARY:Decatur Mahjong Social Club 1 Year Anniversary Party!
DESCRIPTION:Get ready to celebrate in style! đźŽ‰Â The Decatur Mahjong S
 ocial Club is turning ONE this April 2026\, and weâ€™re marking the occa
 sion with a festive night you wonâ€™t want to miss.\nJoin us for an even
 ing filled with delicious appetizers\, signature cocktails\, and plenty 
 of time to connect with the incredible community of Mahjong lovers who h
 ave made this club so special. Whether youâ€™ve been with us from the st
 art or joined along the way\, this is your night to celebrate!\nâś¨Â Mem
 bers-only event â€“ registration required\nTo reserve your spot\, head t
 oÂ OpenTable\, search for Cafe Lily\, and scroll to the â€śExperiencesâ€
 ť section. Select the event titled â€śDecatur Mahjong Social Clubâ€ť and
  click â€śReserve.â€ť\nđźŽźď¸ŹÂ Tickets: $15\nYour ticket covers gratuit
 y for the wonderful Cafe Lily staffâ€”our club is treating you to the sp
 ace\, food\, and signature drinks!\nSpots are limited\, so donâ€™t waitâ
 €”secure your seat at the table and come celebrate a year of Mahjong\, f
 riendship\, and fun!\nQuestions? Reach out to Whitney Brown atÂ decaturm
 ahjwhitney@gmail.com.
URL;VALUE=URI:https://decaturmahj.com/events/decatur-mahjong-social-club
 -1-year-anniversary-party/
UID:urn:uuid:752bdf6e-318b-46c7-bdac-108a6633c0c7
STATUS:CONFIRMED
ORGANIZER:
DTSTAMP:20260420T144702Z
DTSTART;TZID=UTC:20260410T183000
DTEND;TZID=UTC:20260410T210000
LOCATION:308-B W. Ponce de Leon Ave.
END:VEVENT
END:VCALENDAR