BEGIN:VCALENDAR
METHOD:PUBLISH
VERSION:2.0
CALSCALE:GREGORIAN
PRODID:-//NONSGML WPForms//NONSGML Sugar Calendar Feeds v3.11.0//EN
X-WR-CALNAME:Friday-Lunch-Open-Play-@-Cafe-Lily-Decatur
X-WR-CALDESC:DecaturMahj.com
X-WR-TIMEZONE:UTC
BEGIN:VTIMEZONE
TZID:UTC
BEGIN:STANDARD
TZOFFSETFROM:+0000
TZOFFSETTO:+0000
DTSTART:20251211T233000
TZNAME:UTC
END:STANDARD
END:VTIMEZONE
BEGIN:VTIMEZONE
TZID:UTC
BEGIN:STANDARD
TZOFFSETFROM:+0000
TZOFFSETTO:+0000
DTSTART:20251211T233000
TZNAME:UTC
END:STANDARD
END:VTIMEZONE
BEGIN:VEVENT
SUMMARY:Friday Lunch & Open Play @ Cafe Lily Decatur
DESCRIPTION:Lunch\, Socializing\, and Mahjong at Cafe Lily Every Friday!
 \n\n\n\n\n\n\n\n\nJoin us every Friday in Cafe Lily for a fun and welcom
 ing afternoon of Mahjong\, food\, and community!\nSchedule:\n\n\n 	11:30
  AM – Lunch &amp\; socializing in the main restaurant\n 	12:30 PM – 
 2:45 PM – Mahjong Open Play in the private dining room\n\nConnect with
  others in the Decatur community while enjoying a game that blends strat
 egy\, skill\, and a bit of luck. Mahjong is a great way to relax\, socia
 lize\, and challenge your mind!\n\n\n\n\nAbout the Event\n\n 	Open to al
 l levels\, from beginners to advanced players\n 	Open Play only (no form
 al lessons or supervised beginner play during this weekly event)\n 	Tabl
 es will be organized by skill level:\n\n 	~3 tables for intermediate/adv
 anced players\n 	~2 tables for beginners(Adjustments made based on atten
 dance)\n\n\n\nNew and curious but don’t know how to play yet? You’re
  welcome to observe and learn more about our Quarterly Lessons Series.\n
 \n\n\n\nFees &amp\; Participation\n\n 	$5 minimum purchase (food or beve
 rage) required\n 	Please RSVP — only 24 seats available\n 	If your pla
 ns change\, kindly cancel your RSVP so someone else can attend\n\n\n\n\n
 Supporting Cafe Lily\nWe’re grateful to Cafe Lily for generously provi
 ding our private room at no cost. To support them\, we kindly ask:\n\n\n
  	Join us for lunch or make at least a $5 purchase while playing\n 	No o
 utside food or drinks\n 	Please tip your servers generously\n 	Help spre
 ad the word or leave a positive review if you enjoy your experience\n\nC
 afe Lily’s menu offers a tempting variety of appetizers\, small plates
 \, and entrees — complemented by wine\, beer\, cocktails\, non-alcohol
 ic beverages\, and decadent desserts.\n\n\n\n\nParking\n\n 	Street parki
 ng is available along Ponce de Leon Place - pay at the parking meter.\n 
 	Parking is also available in front of and along the side of Cafe Lily.\
 n\n\n\n\nWhat to Bring\n\n 	Your own Mahjong tiles and mat(s)\n 	Your [c
 urrent_year] Official National Mah Jongg League Card\n\n\n\n\nOfficial M
 ahjong Cards\nIf you don’t yet have a [current_year] card\, you can pu
 rchase one from the National Mah Jongg League:\n\n\n 	Large print (recom
 mended): $15\n 	Standard size: $14\n\n⚠️ Avoid “bootleg” cards f
 rom places like Amazon or Walmart—they are not approved and do not sup
 port the League.\nWondering about the importance of having a [current_ye
 ar] Official Mah Jongg Card? Visit our Mahjong 101 pages to find out mor
 e.\n\n\n\nCome for the food\, stay for the fun—see you Friday! 🀄
URL;VALUE=URI:https://decaturmahj.com/sc_recurring_event/friday-lunch-ca
 fe-lily-decatur-3/
UID:urn:uuid:9a55f8ec-f9f7-4fe0-8dfa-31525151df9a
STATUS:CONFIRMED
ORGANIZER:
DTSTAMP:20260420T161328Z
DTSTART;TZID=UTC:20260612T113000
DTEND;TZID=UTC:20260612T150000
RRULE:FREQ=WEEKLY;INTERVAL=1
LOCATION:308-B W. Ponce de Leon Ave.
END:VEVENT
END:VCALENDAR