BEGIN:VCALENDAR
METHOD:PUBLISH
VERSION:2.0
CALSCALE:GREGORIAN
PRODID:-//NONSGML WPForms//NONSGML Sugar Calendar Feeds v3.11.0//EN
X-WR-CALNAME:Game-Night-@-Benchwarmers-—-Open-Play-Mahjong-More
X-WR-CALDESC:DecaturMahj.com
X-WR-TIMEZONE:UTC
BEGIN:VTIMEZONE
TZID:UTC
BEGIN:STANDARD
TZOFFSETFROM:+0000
TZOFFSETTO:+0000
DTSTART:20260204T051500
TZNAME:UTC
END:STANDARD
END:VTIMEZONE
BEGIN:VTIMEZONE
TZID:UTC
BEGIN:STANDARD
TZOFFSETFROM:+0000
TZOFFSETTO:+0000
DTSTART:20260204T051500
TZNAME:UTC
END:STANDARD
END:VTIMEZONE
BEGIN:VEVENT
SUMMARY:Game Night @ Benchwarmers — Open Play Mahjong & More
DESCRIPTION:Game Night at Bench Warmers Decatur – American &amp\; Hong
  Kong Style 🀄\nJoin us every Wednesday at Bench Warmers for a fun eve
 ning of Mahjong\, great food\, and community!\nEnjoy Half-Price Wine Nig
 hts and $5 Lemon Drop shooters\, plus exclusive specials just for our gr
 oup—including discounted appetizers and $5 premium beers.\n\n\n\n\nSch
 edule\n\n 	5:25 PM – Optional group dinner\n 	6:20 PM – Set up\, soc
 ializing &amp\; “tile talk”\n 	6:30 PM – Open Play begins\n\n\n\n\
 nAbout the Event\n\n 	American Mahjong &amp\; Hong Kong Mahjong tables a
 vailable\n 	Open to all skill levels\n 	Open Play only (no lessons or su
 pervised play)\n 	Play with others at your level and enjoy a relaxed\, s
 ocial atmosphere\n\nOur group is welcoming and happy to help newer playe
 rs who already know the basics. If you’re brand new\, check out our Qu
 arterly Lesson Series.\n\n\n\n\nWhat to Bring\n\n 	Your own tiles\, rack
 s\, and mat\n 	Your [current_year] official National Mah Jongg Card (we 
 may have a few extras available\, including 2025 cards)\n 	Join a table 
 that matches your comfort level\n\n\n\n\nFees\n\n 	Annual &amp\; Quarter
 ly Members: Free\n 	Pay-Per-Play members: $5\n 	Guests: $10\n\n\n\n\nOff
 icial Mahjong Cards\nIf you don’t yet have a [current_year] card\, you
  can purchase one from the National Mah Jongg League:\n\n\n 	Large print
  (recommended): $15\n 	Standard size: $14\n\n⚠️ Avoid “bootleg” 
 cards from places like Amazon or Walmart—they are not approved and do 
 not support the League.\nWondering about the importance of having a [cur
 rent_year] Official Mah Jongg Card? Visit our Mahjong 101 pages to find 
 out more.\n\n\n\n\nMore Ways to Play\n\n 	Fridays: Lunch &amp\; Mahjong 
 at Cafe Lily (11:30 AM lunch\, play ~12:45 PM)\n 	Sundays: Mahjong at Gr
 een Ginger\n\n\n\nWhether you’re a seasoned player or just getting com
 fortable with the game\, Mahjong is a great way to connect\, relax\, and
  challenge your mind.
URL;VALUE=URI:https://decaturmahj.com/sc_recurring_event/game-night-open
 -play-mahjong-more-2-2/
UID:urn:uuid:7fb3a58c-dbcf-48c1-9a68-9c5f565bde4a
STATUS:CONFIRMED
ORGANIZER:
DTSTAMP:20260420T123817Z
DTSTART;TZID=UTC:20260805T171500
DTEND;TZID=UTC:20260805T211500
RRULE:FREQ=WEEKLY;INTERVAL=1
LOCATION:240 W. Ponce de Leon Ave.
END:VEVENT
END:VCALENDAR