BEGIN:VCALENDAR
METHOD:PUBLISH
VERSION:2.0
CALSCALE:GREGORIAN
PRODID:-//NONSGML WPForms//NONSGML Sugar Calendar Feeds v3.11.0//EN
X-WR-CALNAME:Game Night @ Benchwarmers — Open Play Mahjong & More
X-WR-CALDESC:DecaturMahj.com
X-WR-TIMEZONE:UTC
BEGIN:VTIMEZONE
TZID:UTC
BEGIN:STANDARD
TZOFFSETFROM:+0000
TZOFFSETTO:+0000
DTSTART:20250326T051500
TZNAME:UTC
END:STANDARD
END:VTIMEZONE
BEGIN:VTIMEZONE
TZID:UTC
BEGIN:STANDARD
TZOFFSETFROM:+0000
TZOFFSETTO:+0000
DTSTART:20250326T051500
TZNAME:UTC
END:STANDARD
END:VTIMEZONE
BEGIN:VEVENT
SUMMARY:Game Night @ Benchwarmers — Open Play Mahjong & More
DESCRIPTION:Game Night at Bench Warmers Decatur Every Wednesday!\nTHIS W
 EDNESDAY ONLY:\n\nGuest speaker Heather Feinstein\, a tournament player 
 and Mahjong instructor\, will teach us a new way to score our Mahjong Op
 en Play Sessions. She will introduce a three-step scoring process (inste
 ad of just using the value on the card)\, making our events more engagin
 g and creating different winning categories.\n\nOur mini tournament\, or
 iginally scheduled for November 16th\, has been canceled. Many members (
 and your Leadership Team) value the social aspect\, friendly competition
 \, and celebration of awards and prizes even more! As a result\, we will
  hold these fun\, friendly competitions three or four times a year inste
 ad.\n\nHeather also teaches two-player Siamese Mahjong\, which will give
  us more options for managing overflow and rotations.\n\nThe fee for thi
 s event is $10\, not the usual $5.\nMainly Mahjong\, but we welcome Crib
 bage\, Cards\, Chess\, and More! Bench Warmers will offer reduced-price 
 appetizers and specials\, plus $5 beverage deals: half-price wine\, redu
 ced-cost premium beers\, and Lemon Drop Shooters!\nConnect with members 
 of the community in Decatur while enjoying games that blend strategy\, s
 kill\, and a bit of luck. Mahjong is a great way to socialize\, relax\, 
 and challenge your mind. No lessons or Supervised Beginner Play at this 
 event — just Open Play with players of similar skill levels and a lot 
 of fun! Not up for Mahjong? Don't worry! We'll have a few tables set up 
 for other games.\n5:15PM Dinner with the group\n6:00PM Set up and social
 \,\n630PM Play begins- Mahjong Open Play\nPlease RSVP.\n\nFor Mahjong Pl
 ayers\nBring your own tiles\, mat(s)\, and your [current_year] Official 
 Mah Jongg Card. Set up your tiles at the level of play with which you ar
 e comfortable.\n\nOfficial Mahjong Cards\nIf you do not yet a [current_y
 ear] Official Mah Jongg Card\, you can purchase one from the National Ma
 h Jongg League. Large Type cards (recommended) are $15 each\, regular ca
 rds are $14. Beware of bootleg cards available a Amazon or Walmart — t
 hey are not approved by (and do not support) the League. Wondering about
  the importance of having a [current_year] Official Mah Jongg Card? Visi
 t our Mahjong 101 pages to find out more.
URL;VALUE=URI:https://decaturmahj.com/events/game-night-open-play-mahjon
 g-more/
UID:urn:uuid:9ff0e307-593f-4037-8449-c86af21273fa
STATUS:CONFIRMED
ORGANIZER:
DTSTAMP:20260420T190006Z
DTSTART;TZID=UTC:20250924T171500
DTEND;TZID=UTC:20250924T211500
LOCATION:240 W. Ponce de Leon Ave.
END:VEVENT
END:VCALENDAR