BEGIN:VCALENDAR
METHOD:PUBLISH
VERSION:2.0
CALSCALE:GREGORIAN
PRODID:-//NONSGML WPForms//NONSGML Sugar Calendar Feeds v3.11.0//EN
X-WR-CALNAME:Intro-to-American-Mahjong-Lesson
X-WR-CALDESC:DecaturMahj.com
X-WR-TIMEZONE:UTC
BEGIN:VTIMEZONE
TZID:UTC
BEGIN:STANDARD
TZOFFSETFROM:+0000
TZOFFSETTO:+0000
DTSTART:20260515T003000
TZNAME:UTC
END:STANDARD
END:VTIMEZONE
BEGIN:VTIMEZONE
TZID:UTC
BEGIN:STANDARD
TZOFFSETFROM:+0000
TZOFFSETTO:+0000
DTSTART:20260515T003000
TZNAME:UTC
END:STANDARD
END:VTIMEZONE
BEGIN:VEVENT
SUMMARY:Intro to American Mahjong Lesson
DESCRIPTION:Interested in Learning American Mahjong? 🀄\nJoin us for o
 ur Beginner Mahjong Lesson held on the 2nd Friday of each month at Cafe 
 Lily!\nThis is a fun\, welcoming introduction to American Mahjong\, perf
 ect for those who are brand new or looking to build confidence. You’ll
  learn the basics\, meet new people\, and enjoy a relaxed\, social atmos
 phere.\n\n\n\n\nSchedule\n\n 	11:30 AM – 12:30 PM (approx.)Optional gr
 oup lunch &amp\; social time in the main restaurant\n 	12:30 PM – 2:00
  PMBeginner lesson (rules\, tiles\, gameplay basics)\n 	2:00 PM – 2:30
  PMGuided tile matching &amp\; practice with fellow students\n\n\n\n\nDe
 tails\n\n 	Cost: $25 per person - payment must be received in advance\n 
 	Class size: Limited to 8 students for a personalized experience\n 	No p
 rior experience needed—just bring your curiosity!\n\n\n\n\nWhy Join?\n
 \n 	Learn step-by-step in a supportive environment\n 	Meet others who ar
 e also learning\n 	Build confidence before joining Open Play sessions\n\
 n\n\nSpots fill quickly—please RSVP to reserve your seat!
URL;VALUE=URI:https://decaturmahj.com/sc_recurring_event/intro-to-americ
 an-mahjong-lesson/
UID:urn:uuid:63ef25e8-3db3-47cb-90d1-1a4b4c01d471
STATUS:CONFIRMED
ORGANIZER:
DTSTAMP:20260420T161659Z
DTSTART;TZID=UTC:20261113T123000
DTEND;TZID=UTC:20261113T144500
RRULE:FREQ=MONTHLY;INTERVAL=1;UNTIL=20261231T235959Z
LOCATION:308-B W. Ponce de Leon Ave.
END:VEVENT
END:VCALENDAR