BEGIN:VCALENDAR
METHOD:PUBLISH
VERSION:2.0
CALSCALE:GREGORIAN
PRODID:-//NONSGML WPForms//NONSGML Sugar Calendar Feeds v3.11.0//EN
X-WR-CALNAME:Introductory American Mahjong Lessons @ Cafe Lily Decatur
X-WR-CALDESC:DecaturMahj.com
X-WR-TIMEZONE:UTC
BEGIN:VTIMEZONE
TZID:UTC
BEGIN:STANDARD
TZOFFSETFROM:+0000
TZOFFSETTO:+0000
DTSTART:20250404T003000
TZNAME:UTC
END:STANDARD
END:VTIMEZONE
BEGIN:VTIMEZONE
TZID:UTC
BEGIN:STANDARD
TZOFFSETFROM:+0000
TZOFFSETTO:+0000
DTSTART:20250404T003000
TZNAME:UTC
END:STANDARD
END:VTIMEZONE
BEGIN:VEVENT
SUMMARY:Introductory American Mahjong Lessons @ Cafe Lily Decatur
DESCRIPTION:We are excited to announce that our Downtown Decatur Mahjong
  Social Club will be hosting beginner Intro Mahjong lessons — join us 
 to learn this ancient but very popular game! We've had an overwhelming r
 esponse from people eager to learn Mahjong\, including many newcomers an
 d friend groups wanting to learn together! Whether you're clueless and j
 ust curious about this classic game or ready to jump in and learn\, you 
 will enjoy this event.\n\n11:30AM Lunch with the group\n12:30PM 1.5-hour
  lesson\n2:00PM 30 minutes of matching tiles to hands\, if desired.\nCos
 t: $25\n\nLimit 6 students per class. Please RSVP.\n\nTo RSVP\, pay and 
 reserve your seat via Venmo to @scottie_whitney07 or Zelle using Whitney
 ’s cell - 678.665.7743.\n\nWe are looking forward to seeing you at the
  Mahjong table and making new friends to play with and socialize!\n\nCan
 't make this event? We're doing it again on Friday\, October 17! Click h
 ere to view event.
URL;VALUE=URI:https://decaturmahj.com/events/introductory-american-mahjo
 ng-lessons-cafe-lily-decatur/
UID:urn:uuid:d9f43164-d39d-406e-a4c9-19762c7f8237
STATUS:CONFIRMED
ORGANIZER:
DTSTAMP:20260420T173329Z
DTSTART;TZID=UTC:20251003T123000
DTEND;TZID=UTC:20251003T143000
LOCATION:308-B W. Ponce de Leon Ave.
END:VEVENT
END:VCALENDAR