BEGIN:VCALENDAR
METHOD:PUBLISH
VERSION:2.0
CALSCALE:GREGORIAN
PRODID:-//NONSGML WPForms//NONSGML Sugar Calendar Feeds v3.11.0//EN
X-WR-CALNAME:Learn to Play Mahjong (I Love Mahjong Online) with Members
X-WR-CALDESC:DecaturMahj.com
X-WR-TIMEZONE:UTC
BEGIN:VTIMEZONE
TZID:UTC
BEGIN:STANDARD
TZOFFSETFROM:+0000
TZOFFSETTO:+0000
DTSTART:20251012T013000
TZNAME:UTC
END:STANDARD
END:VTIMEZONE
BEGIN:VTIMEZONE
TZID:UTC
BEGIN:STANDARD
TZOFFSETFROM:+0000
TZOFFSETTO:+0000
DTSTART:20251012T013000
TZNAME:UTC
END:STANDARD
END:VTIMEZONE
BEGIN:VEVENT
SUMMARY:Learn to Play Mahjong (I Love Mahjong Online) with Members
DESCRIPTION:Learn to Play Mahjong Online with I Love Mahjong Online 🀄
 \nTaught by our member Katie Scruggs\nCurious about playing Mahjong onli
 ne? Join us for a hands-on\, step-by-step workshop where you’ll learn 
 how to use the I Love Mahj online platform—plus pick up helpful tips\,
  strategy insights\, and get your questions answered in a live Q&amp\;A.
 \n\n\n\n\nWorkshop Details\n\n 	Time: 1:30 PM – 2:15 PM\n 	Cost: Free\
 n 	Stay after for Open Play Mahjong!\n\n\n\n\nWhat to Bring\n\n 	Your ce
 ll phone\, tablet\, or laptop\n 	Be ready to follow along and practice i
 n real time\n\n\n\n\nPlay Online with Our Group\nKatie has created a pri
 vate online group:“Decatur Mahjong Social Club Online” within I Love
  Mahjong Online\nTo join:\n\n\n 	Provide Katie with your email address a
 t katiescruggs25@gmail.com\n 	Once added\, you’ll be able to play onli
 ne with other Decatur Mahj members anytime\n\n\n\n\nSubscription Info\n\
 n 	First 3 weeks: Free trial\n 	After: $6/month\n 	Register for a subscr
 iption by visiting: https://ilovemahj.com/.\n\nCome learn\, connect\, an
 d expand your Mahjong play beyond the table!
URL;VALUE=URI:https://decaturmahj.com/events/learn-to-play-mahjong-i-lov
 e-mahjong-online-with-members/
UID:urn:uuid:1b1ad68e-45d3-4c96-84aa-a80501b77031
STATUS:CONFIRMED
ORGANIZER:
DTSTAMP:20260420T130856Z
DTSTART;TZID=UTC:20260412T133000
DTEND;TZID=UTC:20260412T141500
LOCATION:265 Ponce de Leon Place
END:VEVENT
END:VCALENDAR