BEGIN:VCALENDAR
METHOD:PUBLISH
VERSION:2.0
CALSCALE:GREGORIAN
PRODID:-//NONSGML WPForms//NONSGML Sugar Calendar Feeds v3.11.0//EN
X-WR-CALNAME:Mahjong-Sunday-Funday-@-Green-Ginger
X-WR-CALDESC:DecaturMahj.com
X-WR-TIMEZONE:UTC
BEGIN:VTIMEZONE
TZID:UTC
BEGIN:STANDARD
TZOFFSETFROM:+0000
TZOFFSETTO:+0000
DTSTART:20260111T020000
TZNAME:UTC
END:STANDARD
END:VTIMEZONE
BEGIN:VTIMEZONE
TZID:UTC
BEGIN:STANDARD
TZOFFSETFROM:+0000
TZOFFSETTO:+0000
DTSTART:20260111T020000
TZNAME:UTC
END:STANDARD
END:VTIMEZONE
BEGIN:VEVENT
SUMMARY:Mahjong Sunday Funday @ Green Ginger
DESCRIPTION:Sunday Mahjong Open Play â€“ Food\, Fun &amp\; Community đź€
 „\nJoin us every Sunday for relaxed\, social American Mahjong Open Play 
 at local favorite Green Ginger! We'll play on the patio so dress appropr
 iately for the weather.\nSunday doesnâ€™t have to be just church and spo
 rtsâ€”come connect with others in the Decatur community while enjoying a
  game that blends strategy\, skill\, and a bit of luck. Mahjong is a gre
 at way to socialize\, unwind\, and challenge your mind.\nThis is Open Pl
 ay only (no lessons or supervised beginner play)\, so come ready to play
  and have fun!\nDetails:\n\n\n 	Bring your own tiles\, mat\, and 2026 ca
 rd\n 	Admission: Annual &amp\; Quarterly Members Free/$5 Pay-Per-Play me
 mbers / $10 guests\n\nFood &amp\; Beverage:\n\n\n 	Green Ginger is letti
 ng us use their patio free of charge. A $15 minimum food/drink purchase 
 is strongly encouraged to support the restaurant!\n 	No outside food or 
 drinks\n 	Please tip your servers generously\n\nCome for the great food\
 , stay for the Mahjong\, and enjoy a fun\, welcoming community every Sun
 day!
URL;VALUE=URI:https://decaturmahj.com/sc_recurring_event/mahjong-sunday-
 funday-green-ginger-2/
UID:urn:uuid:bd51aeb3-6e8f-429c-a202-82689785a5f5
STATUS:CONFIRMED
ORGANIZER:
DTSTAMP:20260420T161640Z
DTSTART;TZID=UTC:20260712T140000
DTEND;TZID=UTC:20260712T170000
RRULE:FREQ=WEEKLY;INTERVAL=1
LOCATION:265 Ponce de Leon Place
END:VEVENT
END:VCALENDAR