BEGIN:VCALENDAR
METHOD:PUBLISH
VERSION:2.0
CALSCALE:GREGORIAN
PRODID:-//NONSGML WPForms//NONSGML Sugar Calendar Feeds v3.11.0//EN
X-WR-CALNAME:Open-Play-American-Mahjong-@-Pool-Turtle
X-WR-CALDESC:DecaturMahj.com
X-WR-TIMEZONE:UTC
BEGIN:VTIMEZONE
TZID:UTC
BEGIN:STANDARD
TZOFFSETFROM:+0000
TZOFFSETTO:+0000
DTSTART:20260512T063000
TZNAME:UTC
END:STANDARD
END:VTIMEZONE
BEGIN:VTIMEZONE
TZID:UTC
BEGIN:STANDARD
TZOFFSETFROM:+0000
TZOFFSETTO:+0000
DTSTART:20260512T063000
TZNAME:UTC
END:STANDARD
END:VTIMEZONE
BEGIN:VEVENT
SUMMARY:Open Play American Mahjong @ Pool Turtle
DESCRIPTION:New Tuesday Mahjong Night at The Pool Turtle 🀄\nFrom your
  host\, Vicki Figiel:\nHey everyone—big news! 🎉We’re excited to i
 ntroduce a brand-new weekly Mahjong night on Tuesdays. Yes… your week 
 just got better!\nWe’ll be following the same winning format as our po
 pular midweek games:\nSchedule:\n\n\n 	5:30 PM – Socializing\, snacks\
 , refreshments &amp\; a little “tile talk”\n 	6:30 PM – Open Mahjo
 ng play begins (shuffle up those tiles!)\n\n\n\n\nSpecial Feature\nThe 3
 rd Tuesday of each month will include a Mahjong lesson—perfect for any
 one who’s been saying\, “I’ve always wanted to learn!” Bring you
 r friends and let’s get them started.\n\n\n\n\nJoin Us\nWe’re saving
  you a seat—and a rack!Please update your RSVP so we know to expect yo
 u for Open Play.
URL;VALUE=URI:https://decaturmahj.com/sc_recurring_event/tuesday-night-o
 pen-play-american-mahjong/
UID:urn:uuid:9ad03122-0428-440c-8c44-43df1effa8c2
STATUS:CONFIRMED
ORGANIZER:
DTSTAMP:20260420T190708Z
DTSTART;TZID=UTC:20261110T183000
DTEND;TZID=UTC:20261110T213000
RRULE:FREQ=WEEKLY;INTERVAL=1
LOCATION:3409 Covington Highway
END:VEVENT
END:VCALENDAR