BEGIN:VCALENDAR
METHOD:PUBLISH
VERSION:2.0
CALSCALE:GREGORIAN
PRODID:-//NONSGML WPForms//NONSGML Sugar Calendar Feeds v3.11.0//EN
X-WR-CALNAME:“Wait… That’s What It Means?” 2026 Mahjong Card Wor
 kshop
X-WR-CALDESC:DecaturMahj.com
X-WR-TIMEZONE:UTC
BEGIN:VTIMEZONE
TZID:UTC
BEGIN:STANDARD
TZOFFSETFROM:+0000
TZOFFSETTO:+0000
DTSTART:20251009T070000
TZNAME:UTC
END:STANDARD
END:VTIMEZONE
BEGIN:VTIMEZONE
TZID:UTC
BEGIN:STANDARD
TZOFFSETFROM:+0000
TZOFFSETTO:+0000
DTSTART:20251009T070000
TZNAME:UTC
END:STANDARD
END:VTIMEZONE
BEGIN:VEVENT
SUMMARY:“Wait… That’s What It Means?” 2026 Mahjong Card Workshop
DESCRIPTION:🀄📣 Mahjong Alert\, Friends! 📣🀄\nIt’s that time
  of year again… the 2026 National Mahjong League card has arrived\, an
 d yes—it's as exciting and confusing as ever 😄\nYour Decatur Mahjon
 g Social Club is coming to the rescue! We’ll be hosting TWO Zoom sessi
 ons to walk you through the new card\, decode the mysteries\, and save y
 ou from confidently calling the wrong hand.\n📅 Session 1: April 9th a
 t 7:00 PM\n📅 Session 2: April 18th at 2:00 PM\n(Same great content—
 so you only need to attend one!)\n⚠️ Important: You MUST reserve yo
 ur spot to get the Zoom link. No reservation = no link = no Mahjong wis
 dom 😬We need to verify we have a good working email for you to send y
 ou that link.\n📩 Zoom links will be sent out 2 days before each sessi
 on!\nCome ready to learn\, laugh\, and maybe say\, “OH… THAT’S wha
 t that means!”\nDon’t miss it—your future Mahjong game will thank 
 you 😉
URL;VALUE=URI:https://decaturmahj.com/events/wait-thats-what-it-means-20
 26-mahjong-card-workshop/
UID:urn:uuid:77b36efb-707d-4ed6-90e1-45525e2006eb
STATUS:CONFIRMED
ORGANIZER:
DTSTAMP:20260420T161220Z
DTSTART;TZID=UTC:20260409T190000
DTEND;TZID=UTC:20260409T210000
END:VEVENT
END:VCALENDAR