BEGIN:VCALENDAR
METHOD:PUBLISH
VERSION:2.0
CALSCALE:GREGORIAN
PRODID:-//NONSGML WPForms//NONSGML Sugar Calendar Feeds v3.11.0//EN
X-WR-CALNAME:Win a New Mahjong Tile Set & Mat!
X-WR-CALDESC:DecaturMahj.com
X-WR-TIMEZONE:UTC
BEGIN:VTIMEZONE
TZID:UTC
BEGIN:STANDARD
TZOFFSETFROM:+0000
TZOFFSETTO:+0000
DTSTART:20250928T120000
TZNAME:UTC
END:STANDARD
END:VTIMEZONE
BEGIN:VTIMEZONE
TZID:UTC
BEGIN:STANDARD
TZOFFSETFROM:+0000
TZOFFSETTO:+0000
DTSTART:20250928T120000
TZNAME:UTC
END:STANDARD
END:VTIMEZONE
BEGIN:VEVENT
SUMMARY:Win a New Mahjong Tile Set & Mat!
DESCRIPTION:Are you ready to grow your Mahjong tiles collection?! As par
 t of the 1st Anniversary Party on Friday\, April 10th\, we’ll be raffl
 ing off this beautiful Two Sparrows Apollo Tile set with the Atomic Star
 burst Mat!\nValued at over $350\, you can purchase raffle tickets for $1
 0 per ticket! To purchase tickets\, reach out to Barb Rowland at decatu
 rmahjbarb@gmail.com or Whitney Brown at decaturmahjwhitney@gmail.com.\
 nThe set will be raffled off live at the Anniversary Party - you do not 
 have to be present to win!\nMore information about the Apollo Tile Set:\
 nThese fantastic mid mod inspired designs with Faye’s unique flair are
  super chunky (each tiles measures 1.33 × 1.00 × 0.66 inches) and the 
 loveliest pale teal blue. Perfect for American or Hong Kong styles - and
  with the added “capture tiles” they are can be used for Singapore s
 tyle as well! https://www.twosparrowsmahjong.com/shop-j3FLa/p/fayesapol
 lotileset\nMore about the Atomic Starburst Mat:\nOur rubber backed neopr
 ene atomic starburst mat with starburst images in the corners and orange
  stitching. Pairs beatufully with all itmes in our Atomic Line! Measures
  Approx 31 inches square\, machine washable on gentle cycle. https://ww
 w.twosparrowsmahjong.com/shop-j3FLa/p/fayes-atomic-starbust-mat-in-teal-
 with-orange-edging-tykd9-rxh23
URL;VALUE=URI:https://decaturmahj.com/events/win-a-new-mahjong-tile-set-
 mat/
UID:urn:uuid:e4542054-af87-4031-a2a4-98397b1026b9
STATUS:CONFIRMED
ORGANIZER:
DTSTAMP:20260420T160837Z
DTSTART;VALUE=DATE:20260330
DTEND;VALUE=DATE:20260410
LOCATION:308-B W. Ponce de Leon Ave.
END:VEVENT
END:VCALENDAR